BEGIN:VCALENDAR
VERSION:2.0
PRODID:-//VOA Northern New England - ECPv6.15.20//NONSGML v1.0//EN
CALSCALE:GREGORIAN
METHOD:PUBLISH
X-WR-CALNAME:VOA Northern New England
X-ORIGINAL-URL:https://www.voanne.org
X-WR-CALDESC:Events for VOA Northern New England
REFRESH-INTERVAL;VALUE=DURATION:PT1H
X-Robots-Tag:noindex
X-PUBLISHED-TTL:PT1H
BEGIN:VTIMEZONE
TZID:UTC
BEGIN:STANDARD
TZOFFSETFROM:+0000
TZOFFSETTO:+0000
TZNAME:UTC
DTSTART:20250101T000000
END:STANDARD
END:VTIMEZONE
BEGIN:VEVENT
DTSTART;TZID=UTC:20260422T173000
DTEND;TZID=UTC:20260422T183000
DTSTAMP:20260422T120310
CREATED:20250414T153327Z
LAST-MODIFIED:20250602T184322Z
UID:10005330-1776879000-1776882600@www.voanne.org
SUMMARY:AA Group
DESCRIPTION:
URL:https://www.voanne.org/event/aa/2026-04-22/
LOCATION:Project Connect\, 147 Waldo Avenue\, Suite 108\, Belfast\, ME\, 04915
END:VEVENT
BEGIN:VEVENT
DTSTART;TZID=UTC:20260429T173000
DTEND;TZID=UTC:20260429T183000
DTSTAMP:20260422T120310
CREATED:20250414T153327Z
LAST-MODIFIED:20250602T184322Z
UID:10005331-1777483800-1777487400@www.voanne.org
SUMMARY:AA Group
DESCRIPTION:
URL:https://www.voanne.org/event/aa/2026-04-29/
LOCATION:Project Connect\, 147 Waldo Avenue\, Suite 108\, Belfast\, ME\, 04915
END:VEVENT
BEGIN:VEVENT
DTSTART;TZID=UTC:20260506T173000
DTEND;TZID=UTC:20260506T183000
DTSTAMP:20260422T120310
CREATED:20250414T153327Z
LAST-MODIFIED:20250602T184322Z
UID:10005332-1778088600-1778092200@www.voanne.org
SUMMARY:AA Group
DESCRIPTION:
URL:https://www.voanne.org/event/aa/2026-05-06/
LOCATION:Project Connect\, 147 Waldo Avenue\, Suite 108\, Belfast\, ME\, 04915
END:VEVENT
BEGIN:VEVENT
DTSTART;TZID=UTC:20260513T173000
DTEND;TZID=UTC:20260513T183000
DTSTAMP:20260422T120310
CREATED:20250414T153327Z
LAST-MODIFIED:20250602T184322Z
UID:10005333-1778693400-1778697000@www.voanne.org
SUMMARY:AA Group
DESCRIPTION:
URL:https://www.voanne.org/event/aa/2026-05-13/
LOCATION:Project Connect\, 147 Waldo Avenue\, Suite 108\, Belfast\, ME\, 04915
END:VEVENT
BEGIN:VEVENT
DTSTART;TZID=UTC:20260520T173000
DTEND;TZID=UTC:20260520T183000
DTSTAMP:20260422T120310
CREATED:20250414T153327Z
LAST-MODIFIED:20250602T184322Z
UID:10005334-1779298200-1779301800@www.voanne.org
SUMMARY:AA Group
DESCRIPTION:
URL:https://www.voanne.org/event/aa/2026-05-20/
LOCATION:Project Connect\, 147 Waldo Avenue\, Suite 108\, Belfast\, ME\, 04915
END:VEVENT
BEGIN:VEVENT
DTSTART;TZID=UTC:20260527T173000
DTEND;TZID=UTC:20260527T183000
DTSTAMP:20260422T120310
CREATED:20250414T153327Z
LAST-MODIFIED:20250602T184322Z
UID:10005335-1779903000-1779906600@www.voanne.org
SUMMARY:AA Group
DESCRIPTION:
URL:https://www.voanne.org/event/aa/2026-05-27/
LOCATION:Project Connect\, 147 Waldo Avenue\, Suite 108\, Belfast\, ME\, 04915
END:VEVENT
BEGIN:VEVENT
DTSTART;TZID=UTC:20260603T173000
DTEND;TZID=UTC:20260603T183000
DTSTAMP:20260422T120310
CREATED:20250414T153327Z
LAST-MODIFIED:20250602T184322Z
UID:10005336-1780507800-1780511400@www.voanne.org
SUMMARY:AA Group
DESCRIPTION:
URL:https://www.voanne.org/event/aa/2026-06-03/
LOCATION:Project Connect\, 147 Waldo Avenue\, Suite 108\, Belfast\, ME\, 04915
END:VEVENT
BEGIN:VEVENT
DTSTART;TZID=UTC:20260610T173000
DTEND;TZID=UTC:20260610T183000
DTSTAMP:20260422T120310
CREATED:20250414T153327Z
LAST-MODIFIED:20250602T184322Z
UID:10005337-1781112600-1781116200@www.voanne.org
SUMMARY:AA Group
DESCRIPTION:
URL:https://www.voanne.org/event/aa/2026-06-10/
LOCATION:Project Connect\, 147 Waldo Avenue\, Suite 108\, Belfast\, ME\, 04915
END:VEVENT
BEGIN:VEVENT
DTSTART;TZID=UTC:20260617T173000
DTEND;TZID=UTC:20260617T183000
DTSTAMP:20260422T120310
CREATED:20250414T153327Z
LAST-MODIFIED:20250602T184322Z
UID:10005338-1781717400-1781721000@www.voanne.org
SUMMARY:AA Group
DESCRIPTION:
URL:https://www.voanne.org/event/aa/2026-06-17/
LOCATION:Project Connect\, 147 Waldo Avenue\, Suite 108\, Belfast\, ME\, 04915
END:VEVENT
BEGIN:VEVENT
DTSTART;TZID=UTC:20260624T173000
DTEND;TZID=UTC:20260624T183000
DTSTAMP:20260422T120310
CREATED:20250414T153327Z
LAST-MODIFIED:20250602T184322Z
UID:10005339-1782322200-1782325800@www.voanne.org
SUMMARY:AA Group
DESCRIPTION:
URL:https://www.voanne.org/event/aa/2026-06-24/
LOCATION:Project Connect\, 147 Waldo Avenue\, Suite 108\, Belfast\, ME\, 04915
END:VEVENT
BEGIN:VEVENT
DTSTART;TZID=UTC:20260701T173000
DTEND;TZID=UTC:20260701T183000
DTSTAMP:20260422T120310
CREATED:20250414T153327Z
LAST-MODIFIED:20250602T184322Z
UID:10005340-1782927000-1782930600@www.voanne.org
SUMMARY:AA Group
DESCRIPTION:
URL:https://www.voanne.org/event/aa/2026-07-01/
LOCATION:Project Connect\, 147 Waldo Avenue\, Suite 108\, Belfast\, ME\, 04915
END:VEVENT
BEGIN:VEVENT
DTSTART;TZID=UTC:20260708T173000
DTEND;TZID=UTC:20260708T183000
DTSTAMP:20260422T120310
CREATED:20250414T153327Z
LAST-MODIFIED:20250602T184322Z
UID:10005341-1783531800-1783535400@www.voanne.org
SUMMARY:AA Group
DESCRIPTION:
URL:https://www.voanne.org/event/aa/2026-07-08/
LOCATION:Project Connect\, 147 Waldo Avenue\, Suite 108\, Belfast\, ME\, 04915
END:VEVENT
BEGIN:VEVENT
DTSTART;TZID=UTC:20260715T173000
DTEND;TZID=UTC:20260715T183000
DTSTAMP:20260422T120310
CREATED:20250414T153327Z
LAST-MODIFIED:20250602T184322Z
UID:10005342-1784136600-1784140200@www.voanne.org
SUMMARY:AA Group
DESCRIPTION:
URL:https://www.voanne.org/event/aa/2026-07-15/
LOCATION:Project Connect\, 147 Waldo Avenue\, Suite 108\, Belfast\, ME\, 04915
END:VEVENT
BEGIN:VEVENT
DTSTART;TZID=UTC:20260722T173000
DTEND;TZID=UTC:20260722T183000
DTSTAMP:20260422T120310
CREATED:20250414T153327Z
LAST-MODIFIED:20250602T184322Z
UID:10005343-1784741400-1784745000@www.voanne.org
SUMMARY:AA Group
DESCRIPTION:
URL:https://www.voanne.org/event/aa/2026-07-22/
LOCATION:Project Connect\, 147 Waldo Avenue\, Suite 108\, Belfast\, ME\, 04915
END:VEVENT
BEGIN:VEVENT
DTSTART;TZID=UTC:20260729T173000
DTEND;TZID=UTC:20260729T183000
DTSTAMP:20260422T120310
CREATED:20250414T153327Z
LAST-MODIFIED:20250602T184322Z
UID:10005344-1785346200-1785349800@www.voanne.org
SUMMARY:AA Group
DESCRIPTION:
URL:https://www.voanne.org/event/aa/2026-07-29/
LOCATION:Project Connect\, 147 Waldo Avenue\, Suite 108\, Belfast\, ME\, 04915
END:VEVENT
BEGIN:VEVENT
DTSTART;TZID=UTC:20260805T173000
DTEND;TZID=UTC:20260805T183000
DTSTAMP:20260422T120310
CREATED:20250414T153327Z
LAST-MODIFIED:20250602T184322Z
UID:10005345-1785951000-1785954600@www.voanne.org
SUMMARY:AA Group
DESCRIPTION:
URL:https://www.voanne.org/event/aa/2026-08-05/
LOCATION:Project Connect\, 147 Waldo Avenue\, Suite 108\, Belfast\, ME\, 04915
END:VEVENT
BEGIN:VEVENT
DTSTART;TZID=UTC:20260812T173000
DTEND;TZID=UTC:20260812T183000
DTSTAMP:20260422T120310
CREATED:20250414T153327Z
LAST-MODIFIED:20250602T184322Z
UID:10005346-1786555800-1786559400@www.voanne.org
SUMMARY:AA Group
DESCRIPTION:
URL:https://www.voanne.org/event/aa/2026-08-12/
LOCATION:Project Connect\, 147 Waldo Avenue\, Suite 108\, Belfast\, ME\, 04915
END:VEVENT
BEGIN:VEVENT
DTSTART;TZID=UTC:20260819T173000
DTEND;TZID=UTC:20260819T183000
DTSTAMP:20260422T120310
CREATED:20250414T153327Z
LAST-MODIFIED:20250602T184322Z
UID:10005347-1787160600-1787164200@www.voanne.org
SUMMARY:AA Group
DESCRIPTION:
URL:https://www.voanne.org/event/aa/2026-08-19/
LOCATION:Project Connect\, 147 Waldo Avenue\, Suite 108\, Belfast\, ME\, 04915
END:VEVENT
BEGIN:VEVENT
DTSTART;TZID=UTC:20260826T173000
DTEND;TZID=UTC:20260826T183000
DTSTAMP:20260422T120310
CREATED:20250414T153327Z
LAST-MODIFIED:20250602T184322Z
UID:10005348-1787765400-1787769000@www.voanne.org
SUMMARY:AA Group
DESCRIPTION:
URL:https://www.voanne.org/event/aa/2026-08-26/
LOCATION:Project Connect\, 147 Waldo Avenue\, Suite 108\, Belfast\, ME\, 04915
END:VEVENT
BEGIN:VEVENT
DTSTART;TZID=UTC:20260902T173000
DTEND;TZID=UTC:20260902T183000
DTSTAMP:20260422T120310
CREATED:20250414T153327Z
LAST-MODIFIED:20250602T184322Z
UID:10005349-1788370200-1788373800@www.voanne.org
SUMMARY:AA Group
DESCRIPTION:
URL:https://www.voanne.org/event/aa/2026-09-02/
LOCATION:Project Connect\, 147 Waldo Avenue\, Suite 108\, Belfast\, ME\, 04915
END:VEVENT
BEGIN:VEVENT
DTSTART;TZID=UTC:20260909T173000
DTEND;TZID=UTC:20260909T183000
DTSTAMP:20260422T120310
CREATED:20250414T153327Z
LAST-MODIFIED:20250602T184322Z
UID:10005350-1788975000-1788978600@www.voanne.org
SUMMARY:AA Group
DESCRIPTION:
URL:https://www.voanne.org/event/aa/2026-09-09/
LOCATION:Project Connect\, 147 Waldo Avenue\, Suite 108\, Belfast\, ME\, 04915
END:VEVENT
BEGIN:VEVENT
DTSTART;TZID=UTC:20260916T173000
DTEND;TZID=UTC:20260916T183000
DTSTAMP:20260422T120310
CREATED:20250414T153327Z
LAST-MODIFIED:20250602T184322Z
UID:10005351-1789579800-1789583400@www.voanne.org
SUMMARY:AA Group
DESCRIPTION:
URL:https://www.voanne.org/event/aa/2026-09-16/
LOCATION:Project Connect\, 147 Waldo Avenue\, Suite 108\, Belfast\, ME\, 04915
END:VEVENT
BEGIN:VEVENT
DTSTART;TZID=UTC:20260923T173000
DTEND;TZID=UTC:20260923T183000
DTSTAMP:20260422T120310
CREATED:20250414T153327Z
LAST-MODIFIED:20250602T184322Z
UID:10005352-1790184600-1790188200@www.voanne.org
SUMMARY:AA Group
DESCRIPTION:
URL:https://www.voanne.org/event/aa/2026-09-23/
LOCATION:Project Connect\, 147 Waldo Avenue\, Suite 108\, Belfast\, ME\, 04915
END:VEVENT
BEGIN:VEVENT
DTSTART;TZID=UTC:20260930T173000
DTEND;TZID=UTC:20260930T183000
DTSTAMP:20260422T120310
CREATED:20250414T153327Z
LAST-MODIFIED:20250602T184322Z
UID:10005353-1790789400-1790793000@www.voanne.org
SUMMARY:AA Group
DESCRIPTION:
URL:https://www.voanne.org/event/aa/2026-09-30/
LOCATION:Project Connect\, 147 Waldo Avenue\, Suite 108\, Belfast\, ME\, 04915
END:VEVENT
BEGIN:VEVENT
DTSTART;TZID=UTC:20261007T173000
DTEND;TZID=UTC:20261007T183000
DTSTAMP:20260422T120310
CREATED:20250414T153327Z
LAST-MODIFIED:20250602T184322Z
UID:10005354-1791394200-1791397800@www.voanne.org
SUMMARY:AA Group
DESCRIPTION:
URL:https://www.voanne.org/event/aa/2026-10-07/
LOCATION:Project Connect\, 147 Waldo Avenue\, Suite 108\, Belfast\, ME\, 04915
END:VEVENT
BEGIN:VEVENT
DTSTART;TZID=UTC:20261014T173000
DTEND;TZID=UTC:20261014T183000
DTSTAMP:20260422T120310
CREATED:20250414T153327Z
LAST-MODIFIED:20250602T184322Z
UID:10005355-1791999000-1792002600@www.voanne.org
SUMMARY:AA Group
DESCRIPTION:
URL:https://www.voanne.org/event/aa/2026-10-14/
LOCATION:Project Connect\, 147 Waldo Avenue\, Suite 108\, Belfast\, ME\, 04915
END:VEVENT
BEGIN:VEVENT
DTSTART;TZID=UTC:20261021T173000
DTEND;TZID=UTC:20261021T183000
DTSTAMP:20260422T120310
CREATED:20250414T153327Z
LAST-MODIFIED:20250602T184322Z
UID:10005356-1792603800-1792607400@www.voanne.org
SUMMARY:AA Group
DESCRIPTION:
URL:https://www.voanne.org/event/aa/2026-10-21/
LOCATION:Project Connect\, 147 Waldo Avenue\, Suite 108\, Belfast\, ME\, 04915
END:VEVENT
BEGIN:VEVENT
DTSTART;TZID=UTC:20261028T173000
DTEND;TZID=UTC:20261028T183000
DTSTAMP:20260422T120310
CREATED:20250414T153327Z
LAST-MODIFIED:20250602T184322Z
UID:10005357-1793208600-1793212200@www.voanne.org
SUMMARY:AA Group
DESCRIPTION:
URL:https://www.voanne.org/event/aa/2026-10-28/
LOCATION:Project Connect\, 147 Waldo Avenue\, Suite 108\, Belfast\, ME\, 04915
END:VEVENT
BEGIN:VEVENT
DTSTART;TZID=UTC:20261104T173000
DTEND;TZID=UTC:20261104T183000
DTSTAMP:20260422T120310
CREATED:20250414T153327Z
LAST-MODIFIED:20250602T184322Z
UID:10005358-1793813400-1793817000@www.voanne.org
SUMMARY:AA Group
DESCRIPTION:
URL:https://www.voanne.org/event/aa/2026-11-04/
LOCATION:Project Connect\, 147 Waldo Avenue\, Suite 108\, Belfast\, ME\, 04915
END:VEVENT
BEGIN:VEVENT
DTSTART;TZID=UTC:20261111T173000
DTEND;TZID=UTC:20261111T183000
DTSTAMP:20260422T120310
CREATED:20250414T153327Z
LAST-MODIFIED:20250602T184322Z
UID:10005359-1794418200-1794421800@www.voanne.org
SUMMARY:AA Group
DESCRIPTION:
URL:https://www.voanne.org/event/aa/2026-11-11/
LOCATION:Project Connect\, 147 Waldo Avenue\, Suite 108\, Belfast\, ME\, 04915
END:VEVENT
END:VCALENDAR