BEGIN:VCALENDAR
VERSION:2.0
PRODID:-//VOA Northern New England - ECPv6.15.20//NONSGML v1.0//EN
CALSCALE:GREGORIAN
METHOD:PUBLISH
X-WR-CALNAME:VOA Northern New England
X-ORIGINAL-URL:https://www.voanne.org
X-WR-CALDESC:Events for VOA Northern New England
REFRESH-INTERVAL;VALUE=DURATION:PT1H
X-Robots-Tag:noindex
X-PUBLISHED-TTL:PT1H
BEGIN:VTIMEZONE
TZID:UTC
BEGIN:STANDARD
TZOFFSETFROM:+0000
TZOFFSETTO:+0000
TZNAME:UTC
DTSTART:20250101T000000
END:STANDARD
END:VTIMEZONE
BEGIN:VEVENT
DTSTART;TZID=UTC:20261130T090000
DTEND;TZID=UTC:20261130T100000
DTSTAMP:20260423T113802
CREATED:20250414T154509Z
LAST-MODIFIED:20250602T181607Z
UID:10006110-1796029200-1796032800@www.voanne.org
SUMMARY:WCRC Check-In
DESCRIPTION:
URL:https://www.voanne.org/event/wcrc-check-in/2026-11-30/
LOCATION:Project Connect\, 147 Waldo Avenue\, Suite 108\, Belfast\, ME\, 04915
END:VEVENT
BEGIN:VEVENT
DTSTART;TZID=UTC:20261130T100000
DTEND;TZID=UTC:20261130T120000
DTSTAMP:20260423T113802
CREATED:20250609T143329Z
LAST-MODIFIED:20250609T143330Z
UID:10003518-1796032800-1796040000@www.voanne.org
SUMMARY:Drop-In Hours
DESCRIPTION:
URL:https://www.voanne.org/event/drop-in-hours-2/2026-11-30/
LOCATION:Project Connect\, 147 Waldo Avenue\, Suite 108\, Belfast\, ME\, 04915
END:VEVENT
BEGIN:VEVENT
DTSTART;TZID=UTC:20261130T130000
DTEND;TZID=UTC:20261130T140000
DTSTAMP:20260423T113802
CREATED:20250414T153210Z
LAST-MODIFIED:20250602T183537Z
UID:10005099-1796043600-1796047200@www.voanne.org
SUMMARY:ALL Recovery Meeting
DESCRIPTION:
URL:https://www.voanne.org/event/all-recovery-meeting/2026-11-30/
LOCATION:Project Connect\, 147 Waldo Avenue\, Suite 108\, Belfast\, ME\, 04915
END:VEVENT
BEGIN:VEVENT
DTSTART;TZID=UTC:20261201T070000
DTEND;TZID=UTC:20261201T080000
DTSTAMP:20260423T113802
CREATED:20250414T152920Z
LAST-MODIFIED:20250908T191523Z
UID:10002734-1796108400-1796112000@www.voanne.org
SUMMARY:Recovery Community Support Circle (HYBRID) AM
DESCRIPTION:This event has virtual and in-person options.
URL:https://www.voanne.org/event/recovery-community-support-circle-hybrid/2026-12-01/
LOCATION:Project Connect\, 147 Waldo Avenue\, Suite 108\, Belfast\, ME\, 04915
END:VEVENT
BEGIN:VEVENT
DTSTART;TZID=UTC:20261201T100000
DTEND;TZID=UTC:20261201T120000
DTSTAMP:20260423T113802
CREATED:20250609T143329Z
LAST-MODIFIED:20250609T143330Z
UID:10003519-1796119200-1796126400@www.voanne.org
SUMMARY:Drop-In Hours
DESCRIPTION:
URL:https://www.voanne.org/event/drop-in-hours-2/2026-12-01/
LOCATION:Project Connect\, 147 Waldo Avenue\, Suite 108\, Belfast\, ME\, 04915
END:VEVENT
BEGIN:VEVENT
DTSTART;TZID=UTC:20261201T120000
DTEND;TZID=UTC:20261201T130000
DTSTAMP:20260423T113802
CREATED:20250908T192218Z
LAST-MODIFIED:20250908T192218Z
UID:10011634-1796126400-1796130000@www.voanne.org
SUMMARY:Recovery Community Support Circle (Hybrid)
DESCRIPTION:
URL:https://www.voanne.org/event/recovery-community-support-circle-hybrid-2/2026-12-01/
END:VEVENT
BEGIN:VEVENT
DTSTART;TZID=UTC:20261202T100000
DTEND;TZID=UTC:20261202T120000
DTSTAMP:20260423T113802
CREATED:20250609T143329Z
LAST-MODIFIED:20250609T143330Z
UID:10003520-1796205600-1796212800@www.voanne.org
SUMMARY:Drop-In Hours
DESCRIPTION:
URL:https://www.voanne.org/event/drop-in-hours-2/2026-12-02/
LOCATION:Project Connect\, 147 Waldo Avenue\, Suite 108\, Belfast\, ME\, 04915
END:VEVENT
BEGIN:VEVENT
DTSTART;TZID=UTC:20261202T173000
DTEND;TZID=UTC:20261202T183000
DTSTAMP:20260423T113802
CREATED:20250414T153327Z
LAST-MODIFIED:20250602T184322Z
UID:10005362-1796232600-1796236200@www.voanne.org
SUMMARY:AA Group
DESCRIPTION:
URL:https://www.voanne.org/event/aa/2026-12-02/
LOCATION:Project Connect\, 147 Waldo Avenue\, Suite 108\, Belfast\, ME\, 04915
END:VEVENT
BEGIN:VEVENT
DTSTART;TZID=UTC:20261203T100000
DTEND;TZID=UTC:20261203T120000
DTSTAMP:20260423T113802
CREATED:20250908T192000Z
LAST-MODIFIED:20250908T192026Z
UID:10011372-1796292000-1796299200@www.voanne.org
SUMMARY:Drop-In
DESCRIPTION:
URL:https://www.voanne.org/event/thursday-drop-in-2/2026-12-03/
END:VEVENT
BEGIN:VEVENT
DTSTART;TZID=UTC:20261203T133000
DTEND;TZID=UTC:20261203T143000
DTSTAMP:20260423T113802
CREATED:20250602T184438Z
LAST-MODIFIED:20250908T190952Z
UID:10010538-1796304600-1796308200@www.voanne.org
SUMMARY:SMART Recovery
DESCRIPTION:
URL:https://www.voanne.org/event/smart-recovery/2026-12-03/
LOCATION:Project Connect\, 147 Waldo Avenue\, Suite 108\, Belfast\, ME\, 04915
END:VEVENT
BEGIN:VEVENT
DTSTART;TZID=UTC:20261204T100000
DTEND;TZID=UTC:20261204T120000
DTSTAMP:20260423T113802
CREATED:20250609T143329Z
LAST-MODIFIED:20250609T143330Z
UID:10003522-1796378400-1796385600@www.voanne.org
SUMMARY:Drop-In Hours
DESCRIPTION:
URL:https://www.voanne.org/event/drop-in-hours-2/2026-12-04/
LOCATION:Project Connect\, 147 Waldo Avenue\, Suite 108\, Belfast\, ME\, 04915
END:VEVENT
BEGIN:VEVENT
DTSTART;TZID=UTC:20261204T113000
DTEND;TZID=UTC:20261204T123000
DTSTAMP:20260423T113802
CREATED:20250908T191107Z
LAST-MODIFIED:20250908T191108Z
UID:10010798-1796383800-1796387400@www.voanne.org
SUMMARY:Recovery Dharma
DESCRIPTION:
URL:https://www.voanne.org/event/recovery-dharma-2/2026-12-04/
LOCATION:Project Connect\, 147 Waldo Avenue\, Suite 108\, Belfast\, ME\, 04915
END:VEVENT
BEGIN:VEVENT
DTSTART;TZID=UTC:20261204T130000
DTEND;TZID=UTC:20261204T150000
DTSTAMP:20260423T113802
CREATED:20250908T190600Z
LAST-MODIFIED:20250908T190601Z
UID:10010002-1796389200-1796396400@www.voanne.org
SUMMARY:Fun Friday!
DESCRIPTION:
URL:https://www.voanne.org/event/fun-friday-2-2/2026-12-04/
END:VEVENT
BEGIN:VEVENT
DTSTART;TZID=UTC:20261205T100000
DTEND;TZID=UTC:20261205T120000
DTSTAMP:20260423T113802
CREATED:20250609T143329Z
LAST-MODIFIED:20250609T143330Z
UID:10003523-1796464800-1796472000@www.voanne.org
SUMMARY:Drop-In Hours
DESCRIPTION:
URL:https://www.voanne.org/event/drop-in-hours-2/2026-12-05/
LOCATION:Project Connect\, 147 Waldo Avenue\, Suite 108\, Belfast\, ME\, 04915
END:VEVENT
BEGIN:VEVENT
DTSTART;TZID=UTC:20261206T100000
DTEND;TZID=UTC:20261206T120000
DTSTAMP:20260423T113802
CREATED:20250609T143329Z
LAST-MODIFIED:20250609T143330Z
UID:10003524-1796551200-1796558400@www.voanne.org
SUMMARY:Drop-In Hours
DESCRIPTION:
URL:https://www.voanne.org/event/drop-in-hours-2/2026-12-06/
LOCATION:Project Connect\, 147 Waldo Avenue\, Suite 108\, Belfast\, ME\, 04915
END:VEVENT
BEGIN:VEVENT
DTSTART;TZID=UTC:20261207T100000
DTEND;TZID=UTC:20261207T120000
DTSTAMP:20260423T113802
CREATED:20250609T143329Z
LAST-MODIFIED:20250609T143330Z
UID:10003525-1796637600-1796644800@www.voanne.org
SUMMARY:Drop-In Hours
DESCRIPTION:
URL:https://www.voanne.org/event/drop-in-hours-2/2026-12-07/
LOCATION:Project Connect\, 147 Waldo Avenue\, Suite 108\, Belfast\, ME\, 04915
END:VEVENT
BEGIN:VEVENT
DTSTART;TZID=UTC:20261207T130000
DTEND;TZID=UTC:20261207T140000
DTSTAMP:20260423T113802
CREATED:20250414T153210Z
LAST-MODIFIED:20250602T183537Z
UID:10005100-1796648400-1796652000@www.voanne.org
SUMMARY:ALL Recovery Meeting
DESCRIPTION:
URL:https://www.voanne.org/event/all-recovery-meeting/2026-12-07/
LOCATION:Project Connect\, 147 Waldo Avenue\, Suite 108\, Belfast\, ME\, 04915
END:VEVENT
BEGIN:VEVENT
DTSTART;TZID=UTC:20261208T070000
DTEND;TZID=UTC:20261208T080000
DTSTAMP:20260423T113802
CREATED:20250414T152920Z
LAST-MODIFIED:20250908T191523Z
UID:10002735-1796713200-1796716800@www.voanne.org
SUMMARY:Recovery Community Support Circle (HYBRID) AM
DESCRIPTION:This event has virtual and in-person options.
URL:https://www.voanne.org/event/recovery-community-support-circle-hybrid/2026-12-08/
LOCATION:Project Connect\, 147 Waldo Avenue\, Suite 108\, Belfast\, ME\, 04915
END:VEVENT
BEGIN:VEVENT
DTSTART;TZID=UTC:20261208T100000
DTEND;TZID=UTC:20261208T120000
DTSTAMP:20260423T113802
CREATED:20250609T143329Z
LAST-MODIFIED:20250609T143330Z
UID:10003526-1796724000-1796731200@www.voanne.org
SUMMARY:Drop-In Hours
DESCRIPTION:
URL:https://www.voanne.org/event/drop-in-hours-2/2026-12-08/
LOCATION:Project Connect\, 147 Waldo Avenue\, Suite 108\, Belfast\, ME\, 04915
END:VEVENT
BEGIN:VEVENT
DTSTART;TZID=UTC:20261208T120000
DTEND;TZID=UTC:20261208T130000
DTSTAMP:20260423T113802
CREATED:20250908T192218Z
LAST-MODIFIED:20250908T192218Z
UID:10011635-1796731200-1796734800@www.voanne.org
SUMMARY:Recovery Community Support Circle (Hybrid)
DESCRIPTION:
URL:https://www.voanne.org/event/recovery-community-support-circle-hybrid-2/2026-12-08/
END:VEVENT
BEGIN:VEVENT
DTSTART;TZID=UTC:20261209T100000
DTEND;TZID=UTC:20261209T120000
DTSTAMP:20260423T113802
CREATED:20250609T143329Z
LAST-MODIFIED:20250609T143330Z
UID:10003527-1796810400-1796817600@www.voanne.org
SUMMARY:Drop-In Hours
DESCRIPTION:
URL:https://www.voanne.org/event/drop-in-hours-2/2026-12-09/
LOCATION:Project Connect\, 147 Waldo Avenue\, Suite 108\, Belfast\, ME\, 04915
END:VEVENT
BEGIN:VEVENT
DTSTART;TZID=UTC:20261209T173000
DTEND;TZID=UTC:20261209T183000
DTSTAMP:20260423T113802
CREATED:20250414T153327Z
LAST-MODIFIED:20250602T184322Z
UID:10005363-1796837400-1796841000@www.voanne.org
SUMMARY:AA Group
DESCRIPTION:
URL:https://www.voanne.org/event/aa/2026-12-09/
LOCATION:Project Connect\, 147 Waldo Avenue\, Suite 108\, Belfast\, ME\, 04915
END:VEVENT
BEGIN:VEVENT
DTSTART;TZID=UTC:20261210T100000
DTEND;TZID=UTC:20261210T120000
DTSTAMP:20260423T113802
CREATED:20250908T192000Z
LAST-MODIFIED:20250908T192026Z
UID:10011373-1796896800-1796904000@www.voanne.org
SUMMARY:Drop-In
DESCRIPTION:
URL:https://www.voanne.org/event/thursday-drop-in-2/2026-12-10/
END:VEVENT
BEGIN:VEVENT
DTSTART;TZID=UTC:20261210T133000
DTEND;TZID=UTC:20261210T143000
DTSTAMP:20260423T113802
CREATED:20250602T184438Z
LAST-MODIFIED:20250908T190952Z
UID:10010539-1796909400-1796913000@www.voanne.org
SUMMARY:SMART Recovery
DESCRIPTION:
URL:https://www.voanne.org/event/smart-recovery/2026-12-10/
LOCATION:Project Connect\, 147 Waldo Avenue\, Suite 108\, Belfast\, ME\, 04915
END:VEVENT
BEGIN:VEVENT
DTSTART;TZID=UTC:20261211T100000
DTEND;TZID=UTC:20261211T120000
DTSTAMP:20260423T113802
CREATED:20250609T143329Z
LAST-MODIFIED:20250609T143330Z
UID:10003529-1796983200-1796990400@www.voanne.org
SUMMARY:Drop-In Hours
DESCRIPTION:
URL:https://www.voanne.org/event/drop-in-hours-2/2026-12-11/
LOCATION:Project Connect\, 147 Waldo Avenue\, Suite 108\, Belfast\, ME\, 04915
END:VEVENT
BEGIN:VEVENT
DTSTART;TZID=UTC:20261211T113000
DTEND;TZID=UTC:20261211T123000
DTSTAMP:20260423T113802
CREATED:20250908T191107Z
LAST-MODIFIED:20250908T191108Z
UID:10010799-1796988600-1796992200@www.voanne.org
SUMMARY:Recovery Dharma
DESCRIPTION:
URL:https://www.voanne.org/event/recovery-dharma-2/2026-12-11/
LOCATION:Project Connect\, 147 Waldo Avenue\, Suite 108\, Belfast\, ME\, 04915
END:VEVENT
BEGIN:VEVENT
DTSTART;TZID=UTC:20261211T130000
DTEND;TZID=UTC:20261211T150000
DTSTAMP:20260423T113802
CREATED:20250908T190600Z
LAST-MODIFIED:20250908T190601Z
UID:10010003-1796994000-1797001200@www.voanne.org
SUMMARY:Fun Friday!
DESCRIPTION:
URL:https://www.voanne.org/event/fun-friday-2-2/2026-12-11/
END:VEVENT
BEGIN:VEVENT
DTSTART;TZID=UTC:20261212T100000
DTEND;TZID=UTC:20261212T120000
DTSTAMP:20260423T113802
CREATED:20250609T143329Z
LAST-MODIFIED:20250609T143330Z
UID:10003530-1797069600-1797076800@www.voanne.org
SUMMARY:Drop-In Hours
DESCRIPTION:
URL:https://www.voanne.org/event/drop-in-hours-2/2026-12-12/
LOCATION:Project Connect\, 147 Waldo Avenue\, Suite 108\, Belfast\, ME\, 04915
END:VEVENT
BEGIN:VEVENT
DTSTART;TZID=UTC:20261213T100000
DTEND;TZID=UTC:20261213T120000
DTSTAMP:20260423T113802
CREATED:20250609T143329Z
LAST-MODIFIED:20250609T143330Z
UID:10003531-1797156000-1797163200@www.voanne.org
SUMMARY:Drop-In Hours
DESCRIPTION:
URL:https://www.voanne.org/event/drop-in-hours-2/2026-12-13/
LOCATION:Project Connect\, 147 Waldo Avenue\, Suite 108\, Belfast\, ME\, 04915
END:VEVENT
BEGIN:VEVENT
DTSTART;TZID=UTC:20261214T090000
DTEND;TZID=UTC:20261214T100000
DTSTAMP:20260423T113802
CREATED:20250414T154509Z
LAST-MODIFIED:20250602T181607Z
UID:10006111-1797238800-1797242400@www.voanne.org
SUMMARY:WCRC Check-In
DESCRIPTION:
URL:https://www.voanne.org/event/wcrc-check-in/2026-12-14/
LOCATION:Project Connect\, 147 Waldo Avenue\, Suite 108\, Belfast\, ME\, 04915
END:VEVENT
END:VCALENDAR