BEGIN:VCALENDAR
VERSION:2.0
PRODID:-//VOA Northern New England - ECPv6.15.20//NONSGML v1.0//EN
CALSCALE:GREGORIAN
METHOD:PUBLISH
X-ORIGINAL-URL:https://www.voanne.org
X-WR-CALDESC:Events for VOA Northern New England
REFRESH-INTERVAL;VALUE=DURATION:PT1H
X-Robots-Tag:noindex
X-PUBLISHED-TTL:PT1H
BEGIN:VTIMEZONE
TZID:UTC
BEGIN:STANDARD
TZOFFSETFROM:+0000
TZOFFSETTO:+0000
TZNAME:UTC
DTSTART:20240101T000000
END:STANDARD
END:VTIMEZONE
BEGIN:VEVENT
DTSTART;TZID=UTC:20250715T070000
DTEND;TZID=UTC:20250715T080000
DTSTAMP:20260419T155124
CREATED:20250414T152920Z
LAST-MODIFIED:20250908T191523Z
UID:10002662-1752562800-1752566400@www.voanne.org
SUMMARY:Recovery Community Support Circle (HYBRID) AM
DESCRIPTION:This event has virtual and in-person options.
URL:https://www.voanne.org/event/recovery-community-support-circle-hybrid/2025-07-15/
LOCATION:Project Connect\, 147 Waldo Avenue\, Suite 108\, Belfast\, ME\, 04915
END:VEVENT
BEGIN:VEVENT
DTSTART;TZID=UTC:20250715T100000
DTEND;TZID=UTC:20250715T120000
DTSTAMP:20260419T155124
CREATED:20250609T143329Z
LAST-MODIFIED:20250609T143330Z
UID:10003015-1752573600-1752580800@www.voanne.org
SUMMARY:Drop-In Hours
DESCRIPTION:
URL:https://www.voanne.org/event/drop-in-hours-2/2025-07-15/
LOCATION:Project Connect\, 147 Waldo Avenue\, Suite 108\, Belfast\, ME\, 04915
END:VEVENT
BEGIN:VEVENT
DTSTART;TZID=UTC:20250715T183000
DTEND;TZID=UTC:20250715T193000
DTSTAMP:20260419T155124
CREATED:20250714T181328Z
LAST-MODIFIED:20250714T181329Z
UID:10005553-1752604200-1752607800@www.voanne.org
SUMMARY:Recovery Community Support Circle (VIRTUAL)
DESCRIPTION:
URL:https://www.voanne.org/event/recovery-community-support-circle-virtual-2/2025-07-15/
LOCATION:Project Connect\, 147 Waldo Avenue\, Suite 108\, Belfast\, ME\, 04915
END:VEVENT
END:VCALENDAR