BEGIN:VCALENDAR
VERSION:2.0
PRODID:-//VOA Northern New England - ECPv6.15.20//NONSGML v1.0//EN
CALSCALE:GREGORIAN
METHOD:PUBLISH
X-WR-CALNAME:VOA Northern New England
X-ORIGINAL-URL:https://www.voanne.org
X-WR-CALDESC:Events for VOA Northern New England
REFRESH-INTERVAL;VALUE=DURATION:PT1H
X-Robots-Tag:noindex
X-PUBLISHED-TTL:PT1H
BEGIN:VTIMEZONE
TZID:UTC
BEGIN:STANDARD
TZOFFSETFROM:+0000
TZOFFSETTO:+0000
TZNAME:UTC
DTSTART:20240101T000000
END:STANDARD
END:VTIMEZONE
BEGIN:VEVENT
DTSTART;TZID=UTC:20250711T100000
DTEND;TZID=UTC:20250711T120000
DTSTAMP:20260419T140421
CREATED:20250609T143329Z
LAST-MODIFIED:20250609T143330Z
UID:10003011-1752228000-1752235200@www.voanne.org
SUMMARY:Drop-In Hours
DESCRIPTION:
URL:https://www.voanne.org/event/drop-in-hours-2/2025-07-11/
LOCATION:Project Connect\, 147 Waldo Avenue\, Suite 108\, Belfast\, ME\, 04915
END:VEVENT
BEGIN:VEVENT
DTSTART;TZID=UTC:20250711T123000
DTEND;TZID=UTC:20250711T153000
DTSTAMP:20260419T140421
CREATED:20250609T143144Z
LAST-MODIFIED:20250609T143144Z
UID:10007532-1752237000-1752247800@www.voanne.org
SUMMARY:Fun Friday!
DESCRIPTION:
URL:https://www.voanne.org/event/fun-friday/2025-07-11/
END:VEVENT
BEGIN:VEVENT
DTSTART;TZID=UTC:20250711T123000
DTEND;TZID=UTC:20250711T153000
DTSTAMP:20260419T140421
CREATED:20250714T180942Z
LAST-MODIFIED:20250714T180943Z
UID:10007533-1752237000-1752247800@www.voanne.org
SUMMARY:Fun Friday!
DESCRIPTION:
URL:https://www.voanne.org/event/fun-friday-2/2025-07-11/
END:VEVENT
END:VCALENDAR