BEGIN:VCALENDAR
VERSION:2.0
PRODID:-//VOA Northern New England - ECPv6.15.20//NONSGML v1.0//EN
CALSCALE:GREGORIAN
METHOD:PUBLISH
X-ORIGINAL-URL:https://www.voanne.org
X-WR-CALDESC:Events for VOA Northern New England
REFRESH-INTERVAL;VALUE=DURATION:PT1H
X-Robots-Tag:noindex
X-PUBLISHED-TTL:PT1H
BEGIN:VTIMEZONE
TZID:UTC
BEGIN:STANDARD
TZOFFSETFROM:+0000
TZOFFSETTO:+0000
TZNAME:UTC
DTSTART:20240101T000000
END:STANDARD
END:VTIMEZONE
BEGIN:VEVENT
DTSTART;TZID=UTC:20250625T100000
DTEND;TZID=UTC:20250625T120000
DTSTAMP:20260421T142756
CREATED:20250609T143329Z
LAST-MODIFIED:20250609T143330Z
UID:10002995-1750845600-1750852800@www.voanne.org
SUMMARY:Drop-In Hours
DESCRIPTION:
URL:https://www.voanne.org/event/drop-in-hours-2/2025-06-25/
LOCATION:Project Connect\, 147 Waldo Avenue\, Suite 108\, Belfast\, ME\, 04915
END:VEVENT
BEGIN:VEVENT
DTSTART;TZID=UTC:20250625T150000
DTEND;TZID=UTC:20250625T160000
DTSTAMP:20260421T142756
CREATED:20250414T153115Z
LAST-MODIFIED:20250602T183710Z
UID:10004762-1750863600-1750867200@www.voanne.org
SUMMARY:Recovery Dharma
DESCRIPTION:
URL:https://www.voanne.org/event/recovery-dharma/2025-06-25/
LOCATION:Project Connect\, 147 Waldo Avenue\, Suite 108\, Belfast\, ME\, 04915
END:VEVENT
BEGIN:VEVENT
DTSTART;TZID=UTC:20250625T173000
DTEND;TZID=UTC:20250625T183000
DTSTAMP:20260421T142756
CREATED:20250414T153327Z
LAST-MODIFIED:20250602T184322Z
UID:10005287-1750872600-1750876200@www.voanne.org
SUMMARY:AA Group
DESCRIPTION:
URL:https://www.voanne.org/event/aa/2025-06-25/
LOCATION:Project Connect\, 147 Waldo Avenue\, Suite 108\, Belfast\, ME\, 04915
END:VEVENT
BEGIN:VEVENT
DTSTART;TZID=UTC:20250625T183000
DTEND;TZID=UTC:20250625T193000
DTSTAMP:20260421T142756
CREATED:20250414T153409Z
LAST-MODIFIED:20250602T184009Z
UID:10005550-1750876200-1750879800@www.voanne.org
SUMMARY:Recovery Community Support Circle (VIRTUAL)
DESCRIPTION:
URL:https://www.voanne.org/event/recovery-community-support-circle-virtual/2025-06-25/
LOCATION:Project Connect\, 147 Waldo Avenue\, Suite 108\, Belfast\, ME\, 04915
END:VEVENT
END:VCALENDAR