BEGIN:VCALENDAR
VERSION:2.0
PRODID:-//VOA Northern New England - ECPv6.15.20//NONSGML v1.0//EN
CALSCALE:GREGORIAN
METHOD:PUBLISH
X-ORIGINAL-URL:https://www.voanne.org
X-WR-CALDESC:Events for VOA Northern New England
REFRESH-INTERVAL;VALUE=DURATION:PT1H
X-Robots-Tag:noindex
X-PUBLISHED-TTL:PT1H
BEGIN:VTIMEZONE
TZID:UTC
BEGIN:STANDARD
TZOFFSETFROM:+0000
TZOFFSETTO:+0000
TZNAME:UTC
DTSTART:20240101T000000
END:STANDARD
END:VTIMEZONE
BEGIN:VEVENT
DTSTART;TZID=UTC:20250602T090000
DTEND;TZID=UTC:20250602T100000
DTSTAMP:20260423T213231
CREATED:20250414T154509Z
LAST-MODIFIED:20250602T181607Z
UID:10006071-1748854800-1748858400@www.voanne.org
SUMMARY:WCRC Check-In
DESCRIPTION:
URL:https://www.voanne.org/event/wcrc-check-in/2025-06-02/
LOCATION:Project Connect\, 147 Waldo Avenue\, Suite 108\, Belfast\, ME\, 04915
END:VEVENT
BEGIN:VEVENT
DTSTART;TZID=UTC:20250602T130000
DTEND;TZID=UTC:20250602T140000
DTSTAMP:20260423T213231
CREATED:20250414T153210Z
LAST-MODIFIED:20250602T183537Z
UID:10005021-1748869200-1748872800@www.voanne.org
SUMMARY:ALL Recovery Meeting
DESCRIPTION:
URL:https://www.voanne.org/event/all-recovery-meeting/2025-06-02/
LOCATION:Project Connect\, 147 Waldo Avenue\, Suite 108\, Belfast\, ME\, 04915
END:VEVENT
END:VCALENDAR